BEGIN:VCALENDAR
VERSION:2.0
PRODID:-//hacksw/handcal//NONSGML v1.0//EN
BEGIN:VEVENT
SUMMARY:CFEB BF2 1ere seance 2026
UID:0240b5b5-7f31-46ac-849f-61b02ebb31c9
DTSTART:20260115T130000Z
DTEND:20260115T160000Z
LOCATION:Localisation   
CATEGORIES:Sportif
STATUS:
URL;VALUE=URI:https://bridge-club-de-cestas.club.ffbridge.fr/evenements/2026/01/15/cfeb-bf2-1ere-seance-2026-2438022
END:VEVENT
END:VCALENDAR
